BEGIN:VCALENDAR
PRODID:Solar Promotion International GmbH
CALSCALE:GREGORIAN
BEGIN:VEVENT
DTSTAMP:20260420T051020Z
DTSTART:20260226T134500
DTEND:20260226T155000
SUMMARY:Moving Upstream - Materials\, Polysilicon\, and Wafer Manufacturing in India
TZID:Europe/Berlin
LAST-MODIFIED:20260417T072206Z
DESCRIPTION:Charting the path toward self-reliance in critical inputs and integration with global supply chains involves assessing India's ability to scale upstream manufacturing. This includes evaluating how quickly the country can build competitive capacity in polysilicon\, ingots\, and wafers through investment and technology partnerships. Some import dependence may still remain because global producers offer lower costs\, higher purity levels\, and more mature process efficiencies.
SEQUENCE:1776661820
URL:https://www.thesmartere.in/conference-program/moving-upstream-materials-polysilicon-and-wafer-manufacturing-in-india
LOCATION:The smarter E India Conference Program\, The Leela Hotel Room: Bandhej
UID:9d789c5b-d54e-4c65-9c89-0a643be5cce0
END:VEVENT
END:VCALENDAR
