BEGIN:VCALENDAR
PRODID:Solar Promotion International GmbH
CALSCALE:GREGORIAN
BEGIN:VEVENT
DTSTAMP:20260420T051252Z
DTSTART:20260226T113000
DTEND:20260226T130000
SUMMARY:Solar Cell R&D - India's Emerging Innovation Base
TZID:Europe/Berlin
LAST-MODIFIED:20260417T072204Z
DESCRIPTION:Discussing research pathways in perovskite\, TOPCon\, and heterojunction technologies\, along with the institutional ecosystem needed for commercialization\, while connecting these developments to global trends in efficiency gains\, accelerated reliability testing\, and scaling strategies adopted by leading manufacturing hubs worldwide.
SEQUENCE:1776661972
URL:https://www.thesmartere.in/conference-program/solar-cell-rd-indias-emerging-innovation-base
LOCATION:The smarter E India Conference Program\, The Leela Hotel Room: Bandhej
UID:31dc33f2-a328-4a01-83ea-ea3141aa904e
END:VEVENT
END:VCALENDAR
