BEGIN:VCALENDAR
PRODID:Solar Promotion International GmbH
CALSCALE:GREGORIAN
BEGIN:VEVENT
DTSTAMP:20260420T052556Z
DTSTART:20260225T160000
DTEND:20260225T173500
SUMMARY:PV Manufacturing Ecosystem - Headwinds and Tailwinds
TZID:Europe/Berlin
LAST-MODIFIED:20260417T072159Z
DESCRIPTION:An overview of how India's solar manufacturing sector is growing\, along with the challenges it faces - including project cancellations and import tariffs - and what these mean for factory demand\, pricing\, and export opportunities. The discussion will also examine how global value-chain realignments and emerging trade partnerships may influence India's competitiveness in modules and cells.
SEQUENCE:1776662756
URL:https://www.thesmartere.in/conference-program/pv-manufacturing-ecosystem-headwinds-and-tailwinds
LOCATION:The smarter E India Conference Program\, The Leela Hotel Room: Bandhej
UID:7966b9bc-7d2f-44da-8713-eb0c5ea42346
END:VEVENT
END:VCALENDAR
