BEGIN:VCALENDAR
PRODID:Solar Promotion International GmbH
CALSCALE:GREGORIAN
BEGIN:VEVENT
DTSTAMP:20260420T050931Z
DTSTART:20260225T140000
DTEND:20260225T153000
SUMMARY:Gujarat - Frontier of Distributed Generation
TZID:Europe/Berlin
LAST-MODIFIED:20260417T072157Z
DESCRIPTION:Showcasing Gujarat's leadership in rooftop solar (top state under PM Surya Ghar)\, open-access and hybrid solar models\, and key programs like PM KUSUM. The session will offer lessons for other states on policy design\, grid readiness and consumer integration. It will also highlight the governance practices and institutional mechanisms that have enabled Gujarat to scale consistently over the past decade.
SEQUENCE:1776661771
URL:https://www.thesmartere.in/conference-program/gujarat-frontier-of-distributed-generation
LOCATION:The smarter E India Conference Program\, The Leela Hotel Room: Bandhej
UID:74665e1e-45bb-400a-96da-630b56b3b374
END:VEVENT
END:VCALENDAR
