BEGIN:VCALENDAR
PRODID:Solar Promotion International GmbH
CALSCALE:GREGORIAN
BEGIN:VEVENT
DTSTAMP:20260420T050743Z
DTSTART:20220920T093000
DTEND:20220920T110000
SUMMARY:Indian Solar Energy Market Outlook 
TZID:Europe/Berlin
LAST-MODIFIED:20231103T110714Z
DESCRIPTION:Indien verfügt über die viertgrößte installierte Kapazität an erneuerbaren Energien und die fünftgrößte Solarenergiekapazität der Welt. Das ehrgeizige Ziel ist es\, bis 2030 eine Kapazität von 500 GW an nicht-fossilen Brennstoffen zu schaffen\, wovon rund 300 GW allein auf den Solarenergiesektor entfallen sollen.
SEQUENCE:1776661663
URL:https://www.thesmartere.in/webinar/indian-solar-energy-market-outlook/de
LOCATION:The smarter E India\, 20. September 2022
UID:5d8fddea-54be-4b8a-bbe3-28f7186bfd66
END:VEVENT
END:VCALENDAR
